Package: qcmetrics Version: 1.48.0 Command: /home/biocbuild/bbs-3.22-bioc/R/bin/R CMD INSTALL qcmetrics StartedAt: 2025-11-06 15:13:03 -0500 (Thu, 06 Nov 2025) EndedAt: 2025-11-06 15:13:13 -0500 (Thu, 06 Nov 2025) EllapsedTime: 9.5 seconds RetCode: 0 Status: OK