Package: qcmetrics Version: 1.48.0 Command: /home/biocbuild/bbs-3.22-bioc/R/bin/R CMD build --keep-empty-dirs --no-resave-data --md5 qcmetrics StartedAt: 2025-11-06 19:26:34 -0500 (Thu, 06 Nov 2025) EndedAt: 2025-11-06 19:27:04 -0500 (Thu, 06 Nov 2025) EllapsedTime: 30.0 seconds RetCode: 0 Status: OK PackageFile: qcmetrics_1.48.0.tar.gz PackageFileSize: 4.22 MiB