Package: pwalign Version: 1.5.0 Command: /home/biocbuild/bbs-3.22-bioc/R/bin/R CMD INSTALL pwalign StartedAt: 2025-10-27 15:51:19 -0400 (Mon, 27 Oct 2025) EndedAt: 2025-10-27 15:51:34 -0400 (Mon, 27 Oct 2025) EllapsedTime: 15.4 seconds RetCode: 0 Status: OK