Package: protGear Version: 1.14.0 Command: /home/biocbuild/bbs-3.22-bioc/R/bin/R CMD build --keep-empty-dirs --no-resave-data --md5 protGear StartedAt: 2025-10-31 19:34:52 -0400 (Fri, 31 Oct 2025) EndedAt: 2025-10-31 19:35:58 -0400 (Fri, 31 Oct 2025) EllapsedTime: 66.1 seconds RetCode: 0 Status: OK PackageFile: protGear_1.14.0.tar.gz PackageFileSize: 4.748 MiB