Package: projectR Version: 1.25.0 Command: /home/biocbuild/bbs-3.22-bioc/R/bin/R CMD INSTALL projectR StartedAt: 2025-10-24 15:31:35 -0400 (Fri, 24 Oct 2025) EndedAt: 2025-10-24 15:32:09 -0400 (Fri, 24 Oct 2025) EllapsedTime: 33.8 seconds RetCode: 0 Status: OK