Package: projectR Version: 1.26.0 Command: /Library/Frameworks/R.framework/Resources/bin/R CMD INSTALL projectR StartedAt: 2025-11-03 15:27:14 -0500 (Mon, 03 Nov 2025) EndedAt: 2025-11-03 15:27:58 -0500 (Mon, 03 Nov 2025) EllapsedTime: 43.7 seconds RetCode: 0 Status: OK