Package: projectR Version: 1.26.0 Command: rm -rf projectR.buildbin-libdir && mkdir projectR.buildbin-libdir && /Users/biocbuild/BBS/utils/build-universal.sh projectR_1.26.0.tar.gz /Library/Frameworks/R.framework/Resources/bin/R projectR.buildbin-libdir StartedAt: 2025-11-02 23:16:35 -0500 (Sun, 02 Nov 2025) EndedAt: 2025-11-02 23:16:50 -0500 (Sun, 02 Nov 2025) EllapsedTime: 15.3 seconds RetCode: 0 Status: OK PackageFile: projectR_1.26.0.tgz PackageFileSize: 7.38 MiB