Package: projectR Version: 1.26.0 Command: rm -rf projectR.buildbin-libdir && mkdir projectR.buildbin-libdir && /Users/biocbuild/BBS/utils/build-universal.sh projectR_1.26.0.tar.gz /Library/Frameworks/R.framework/Resources/bin/R projectR.buildbin-libdir StartedAt: 2025-11-18 16:08:52 -0500 (Tue, 18 Nov 2025) EndedAt: 2025-11-18 16:09:11 -0500 (Tue, 18 Nov 2025) EllapsedTime: 19.2 seconds RetCode: 0 Status: OK PackageFile: projectR_1.26.0.tgz PackageFileSize: 7.38 MiB