Package: profileplyr Version: 1.26.0 Command: /home/biocbuild/bbs-3.22-bioc/R/bin/R CMD INSTALL profileplyr StartedAt: 2025-11-17 18:18:46 -0500 (Mon, 17 Nov 2025) EndedAt: 2025-11-17 18:19:46 -0500 (Mon, 17 Nov 2025) EllapsedTime: 59.9 seconds RetCode: 0 Status: OK