Package: profileplyr Version: 1.26.0 Command: /home/biocbuild/bbs-3.22-bioc/R/bin/R CMD build --keep-empty-dirs --no-resave-data --md5 profileplyr StartedAt: 2025-11-17 22:48:57 -0500 (Mon, 17 Nov 2025) EndedAt: 2025-11-17 22:51:16 -0500 (Mon, 17 Nov 2025) EllapsedTime: 139.1 seconds RetCode: 0 Status: OK PackageFile: profileplyr_1.26.0.tar.gz PackageFileSize: 2.494 MiB