Package: profileScoreDist Version: 1.37.0 Command: /home/biocbuild/bbs-3.22-bioc/R/bin/R CMD build --keep-empty-dirs --no-resave-data --md5 profileScoreDist StartedAt: 2025-10-24 19:32:10 -0400 (Fri, 24 Oct 2025) EndedAt: 2025-10-24 19:32:28 -0400 (Fri, 24 Oct 2025) EllapsedTime: 18.0 seconds RetCode: 0 Status: OK PackageFile: profileScoreDist_1.37.0.tar.gz PackageFileSize: 188.4 KiB