Package: profileScoreDist Version: 1.38.0 Command: /Library/Frameworks/R.framework/Resources/bin/R CMD build --keep-empty-dirs --no-resave-data profileScoreDist StartedAt: 2025-11-03 18:18:25 -0500 (Mon, 03 Nov 2025) EndedAt: 2025-11-03 18:18:46 -0500 (Mon, 03 Nov 2025) EllapsedTime: 21.7 seconds RetCode: 0 Status: OK PackageFile: profileScoreDist_1.38.0.tar.gz PackageFileSize: 187.5 KiB