Package: profileScoreDist Version: 1.38.0 Command: /Library/Frameworks/R.framework/Resources/bin/R CMD build --keep-empty-dirs --no-resave-data profileScoreDist StartedAt: 2025-10-31 17:27:14 -0400 (Fri, 31 Oct 2025) EndedAt: 2025-10-31 17:27:23 -0400 (Fri, 31 Oct 2025) EllapsedTime: 8.1 seconds RetCode: 1 Status: ERROR PackageFile: None PackageFileSize: NA