Package: proActiv Version: 1.20.0 Command: /home/biocbuild/bbs-3.22-bioc/R/bin/R CMD build --keep-empty-dirs --no-resave-data --md5 proActiv StartedAt: 2025-11-10 19:29:22 -0500 (Mon, 10 Nov 2025) EndedAt: 2025-11-10 19:30:24 -0500 (Mon, 10 Nov 2025) EllapsedTime: 62.0 seconds RetCode: 0 Status: OK PackageFile: proActiv_1.20.0.tar.gz PackageFileSize: 2.67 MiB