Package: preprocessCore Version: 1.71.2 Command: /home/biocbuild/bbs-3.22-bioc/R/bin/R CMD INSTALL preprocessCore StartedAt: 2025-10-24 15:22:04 -0400 (Fri, 24 Oct 2025) EndedAt: 2025-10-24 15:22:20 -0400 (Fri, 24 Oct 2025) EllapsedTime: 15.8 seconds RetCode: 0 Status: OK