Package: preprocessCore Version: 1.71.2 Command: /home/biocbuild/bbs-3.22-bioc/R/bin/R CMD build --keep-empty-dirs --no-resave-data --md5 preprocessCore StartedAt: 2025-10-24 19:30:54 -0400 (Fri, 24 Oct 2025) EndedAt: 2025-10-24 19:30:55 -0400 (Fri, 24 Oct 2025) EllapsedTime: 1.0 seconds RetCode: 0 Status: OK PackageFile: preprocessCore_1.71.2.tar.gz PackageFileSize: 128 KiB