Package: preprocessCore Version: 1.72.0 Command: /Library/Frameworks/R.framework/Resources/bin/R CMD build --keep-empty-dirs --no-resave-data preprocessCore StartedAt: 2025-11-18 01:13:02 -0500 (Tue, 18 Nov 2025) EndedAt: 2025-11-18 01:13:05 -0500 (Tue, 18 Nov 2025) EllapsedTime: 3.0 seconds RetCode: 0 Status: OK PackageFile: preprocessCore_1.72.0.tar.gz PackageFileSize: 124.8 KiB