Package: preprocessCore Version: 1.72.0 Command: rm -rf preprocessCore.buildbin-libdir && mkdir preprocessCore.buildbin-libdir && /Users/biocbuild/BBS/utils/build-universal.sh preprocessCore_1.72.0.tar.gz /Library/Frameworks/R.framework/Resources/bin/R preprocessCore.buildbin-libdir StartedAt: 2025-11-18 18:17:21 -0500 (Tue, 18 Nov 2025) EndedAt: 2025-11-18 18:17:56 -0500 (Tue, 18 Nov 2025) EllapsedTime: 34.2 seconds RetCode: 0 Status: OK PackageFile: preprocessCore_1.72.0.tgz PackageFileSize: 195 KiB