Package: preprocessCore Version: 1.71.2 Command: rm -rf preprocessCore.buildbin-libdir && mkdir preprocessCore.buildbin-libdir && /Users/biocbuild/BBS/utils/build-universal.sh preprocessCore_1.71.2.tar.gz /Library/Frameworks/R.framework/Resources/bin/R preprocessCore.buildbin-libdir StartedAt: 2025-10-25 01:56:21 -0400 (Sat, 25 Oct 2025) EndedAt: 2025-10-25 01:56:50 -0400 (Sat, 25 Oct 2025) EllapsedTime: 28.8 seconds RetCode: 0 Status: OK PackageFile: preprocessCore_1.71.2.tgz PackageFileSize: 193 KiB