Package: preprocessCore Version: 1.72.0 Command: /Library/Frameworks/R.framework/Resources/bin/R CMD build --keep-empty-dirs --no-resave-data preprocessCore StartedAt: 2025-11-17 23:54:28 -0500 (Mon, 17 Nov 2025) EndedAt: 2025-11-17 23:54:29 -0500 (Mon, 17 Nov 2025) EllapsedTime: 1.0 seconds RetCode: 0 Status: OK PackageFile: preprocessCore_1.72.0.tar.gz PackageFileSize: 124.8 KiB