Package: preciseTAD Version: 1.20.0 Command: /Library/Frameworks/R.framework/Resources/bin/R CMD INSTALL preciseTAD StartedAt: 2025-11-03 15:56:33 -0500 (Mon, 03 Nov 2025) EndedAt: 2025-11-03 15:57:15 -0500 (Mon, 03 Nov 2025) EllapsedTime: 41.6 seconds RetCode: 0 Status: OK