Package: preciseTAD Version: 1.20.0 Command: /Library/Frameworks/R.framework/Resources/bin/R CMD build --keep-empty-dirs --no-resave-data preciseTAD StartedAt: 2025-11-03 18:17:13 -0500 (Mon, 03 Nov 2025) EndedAt: 2025-11-03 18:21:31 -0500 (Mon, 03 Nov 2025) EllapsedTime: 257.8 seconds RetCode: 0 Status: OK PackageFile: preciseTAD_1.20.0.tar.gz PackageFileSize: 4.072 MiB