Package: preciseTAD Version: 1.19.0 Command: /Library/Frameworks/R.framework/Resources/bin/R CMD INSTALL preciseTAD StartedAt: 2025-10-26 15:32:50 -0400 (Sun, 26 Oct 2025) EndedAt: 2025-10-26 15:33:07 -0400 (Sun, 26 Oct 2025) EllapsedTime: 16.8 seconds RetCode: 0 Status: OK