Package: preciseTAD Version: 1.19.0 Command: /Library/Frameworks/R.framework/Resources/bin/R CMD build --keep-empty-dirs --no-resave-data preciseTAD StartedAt: 2025-10-26 17:34:30 -0400 (Sun, 26 Oct 2025) EndedAt: 2025-10-26 17:36:46 -0400 (Sun, 26 Oct 2025) EllapsedTime: 135.5 seconds RetCode: 0 Status: OK PackageFile: preciseTAD_1.19.0.tar.gz PackageFileSize: 4.073 MiB