Package: preciseTAD Version: 1.20.0 Maintainer: Mikhail Dozmorov MaintainerEmail: mikhail.dozmorov at gmail.com git_url: https://git.bioconductor.org/packages/preciseTAD git_branch: RELEASE_3_22 git_last_commit: 4158f87 git_last_commit_date: 2025-10-29 11:02:20 -0500 (Wed, 29 Oct 2025)