Package: pram Version: 1.26.0 Command: /home/biocbuild/bbs-3.22-bioc/R/bin/R CMD INSTALL pram StartedAt: 2025-11-20 16:18:01 -0500 (Thu, 20 Nov 2025) EndedAt: 2025-11-20 16:18:34 -0500 (Thu, 20 Nov 2025) EllapsedTime: 32.3 seconds RetCode: 0 Status: OK