Package: powerTCR Version: 1.29.0 Command: /home/biocbuild/bbs-3.22-bioc/R/bin/R CMD INSTALL powerTCR StartedAt: 2025-10-24 15:16:51 -0400 (Fri, 24 Oct 2025) EndedAt: 2025-10-24 15:17:32 -0400 (Fri, 24 Oct 2025) EllapsedTime: 40.8 seconds RetCode: 0 Status: OK