Package: powerTCR Version: 1.30.0 Command: /Library/Frameworks/R.framework/Resources/bin/R CMD INSTALL powerTCR StartedAt: 2025-11-06 15:03:51 -0500 (Thu, 06 Nov 2025) EndedAt: 2025-11-06 15:04:11 -0500 (Thu, 06 Nov 2025) EllapsedTime: 19.5 seconds RetCode: 0 Status: OK