Package: powerTCR Version: 1.30.0 Command: /Library/Frameworks/R.framework/Resources/bin/R CMD build --keep-empty-dirs --no-resave-data powerTCR StartedAt: 2025-11-09 17:24:01 -0500 (Sun, 09 Nov 2025) EndedAt: 2025-11-09 17:24:13 -0500 (Sun, 09 Nov 2025) EllapsedTime: 11.1 seconds RetCode: 0 Status: OK PackageFile: powerTCR_1.30.0.tar.gz PackageFileSize: 385.4 KiB