Package: powerTCR Version: 1.30.0 Command: rm -rf powerTCR.buildbin-libdir && mkdir powerTCR.buildbin-libdir && /Users/biocbuild/BBS/utils/build-universal.sh powerTCR_1.30.0.tar.gz /Library/Frameworks/R.framework/Resources/bin/R powerTCR.buildbin-libdir StartedAt: 2025-11-09 23:19:31 -0500 (Sun, 09 Nov 2025) EndedAt: 2025-11-09 23:19:36 -0500 (Sun, 09 Nov 2025) EllapsedTime: 4.1 seconds RetCode: 0 Status: OK PackageFile: powerTCR_1.30.0.tgz PackageFileSize: 467.9 KiB