Package: powerTCR Version: 1.30.0 Command: /Library/Frameworks/R.framework/Resources/bin/R CMD INSTALL powerTCR StartedAt: 2025-11-20 16:05:46 -0500 (Thu, 20 Nov 2025) EndedAt: 2025-11-20 16:06:14 -0500 (Thu, 20 Nov 2025) EllapsedTime: 27.8 seconds RetCode: 0 Status: OK