Package: powerTCR Version: 1.30.0 Command: /Library/Frameworks/R.framework/Resources/bin/R CMD build --keep-empty-dirs --no-resave-data powerTCR StartedAt: 2025-11-21 07:25:52 -0500 (Fri, 21 Nov 2025) EndedAt: 2025-11-21 07:26:23 -0500 (Fri, 21 Nov 2025) EllapsedTime: 30.7 seconds RetCode: 0 Status: OK PackageFile: powerTCR_1.30.0.tar.gz PackageFileSize: 385.4 KiB