Package: podkat Version: 1.41.1 Command: /home/biocbuild/bbs-3.22-bioc/R/bin/R CMD INSTALL podkat StartedAt: 2025-10-27 15:30:56 -0400 (Mon, 27 Oct 2025) EndedAt: 2025-10-27 15:32:09 -0400 (Mon, 27 Oct 2025) EllapsedTime: 73.2 seconds RetCode: 0 Status: OK