Package: plyranges Version: 1.30.1 Command: /home/biocbuild/bbs-3.22-bioc/R/bin/R CMD build --keep-empty-dirs --no-resave-data --md5 plyranges StartedAt: 2025-11-13 19:24:37 -0500 (Thu, 13 Nov 2025) EndedAt: 2025-11-13 19:25:32 -0500 (Thu, 13 Nov 2025) EllapsedTime: 54.1 seconds RetCode: 0 Status: OK PackageFile: plyranges_1.30.1.tar.gz PackageFileSize: 1.3 MiB