Package: plotgardener Version: 1.16.0 Command: /Library/Frameworks/R.framework/Resources/bin/R CMD INSTALL plotgardener StartedAt: 2025-11-10 15:18:45 -0500 (Mon, 10 Nov 2025) EndedAt: 2025-11-10 15:19:05 -0500 (Mon, 10 Nov 2025) EllapsedTime: 19.6 seconds RetCode: 0 Status: OK