Package: plotgardener Version: 1.16.0 Command: /Library/Frameworks/R.framework/Resources/bin/R CMD build --keep-empty-dirs --no-resave-data plotgardener StartedAt: 2025-11-10 17:22:10 -0500 (Mon, 10 Nov 2025) EndedAt: 2025-11-10 17:22:39 -0500 (Mon, 10 Nov 2025) EllapsedTime: 29.3 seconds RetCode: 0 Status: OK PackageFile: plotgardener_1.16.0.tar.gz PackageFileSize: 2.85 MiB