Package: plotgardener Version: 1.16.0 Command: rm -rf plotgardener.buildbin-libdir && mkdir plotgardener.buildbin-libdir && /Users/biocbuild/BBS/utils/build-universal.sh plotgardener_1.16.0.tar.gz /Library/Frameworks/R.framework/Resources/bin/R plotgardener.buildbin-libdir StartedAt: 2025-11-10 23:31:17 -0500 (Mon, 10 Nov 2025) EndedAt: 2025-11-10 23:31:39 -0500 (Mon, 10 Nov 2025) EllapsedTime: 21.5 seconds RetCode: 0 Status: OK PackageFile: plotgardener_1.16.0.tgz PackageFileSize: 3.635 MiB