Package: plotGrouper Version: 1.28.0 Command: /home/biocbuild/R/R/bin/R CMD INSTALL plotGrouper StartedAt: 2025-11-20 21:56:02 -0000 (Thu, 20 Nov 2025) EndedAt: 2025-11-20 21:56:32 -0000 (Thu, 20 Nov 2025) EllapsedTime: 30.1 seconds RetCode: 0 Status: OK