Package: plotGrouper Version: 1.28.0 Command: /home/biocbuild/R/R/bin/R CMD build --keep-empty-dirs --no-resave-data plotGrouper StartedAt: 2025-11-21 04:49:11 -0000 (Fri, 21 Nov 2025) EndedAt: 2025-11-21 04:49:23 -0000 (Fri, 21 Nov 2025) EllapsedTime: 12.0 seconds RetCode: 0 Status: OK PackageFile: plotGrouper_1.28.0.tar.gz PackageFileSize: 704.7 KiB