Package: plotGrouper Version: 1.28.0 Command: /Library/Frameworks/R.framework/Resources/bin/R CMD INSTALL plotGrouper StartedAt: 2025-11-17 17:05:51 -0500 (Mon, 17 Nov 2025) EndedAt: 2025-11-17 17:06:06 -0500 (Mon, 17 Nov 2025) EllapsedTime: 14.9 seconds RetCode: 0 Status: OK