Package: plotGrouper Version: 1.28.0 Command: /Library/Frameworks/R.framework/Resources/bin/R CMD build --keep-empty-dirs --no-resave-data plotGrouper StartedAt: 2025-11-18 01:08:53 -0500 (Tue, 18 Nov 2025) EndedAt: 2025-11-18 01:09:15 -0500 (Tue, 18 Nov 2025) EllapsedTime: 22.1 seconds RetCode: 0 Status: OK PackageFile: plotGrouper_1.28.0.tar.gz PackageFileSize: 704.6 KiB