Package: plotGrouper Version: 1.28.0 Command: rm -rf plotGrouper.buildbin-libdir && mkdir plotGrouper.buildbin-libdir && /Users/biocbuild/BBS/utils/build-universal.sh plotGrouper_1.28.0.tar.gz /Library/Frameworks/R.framework/Resources/bin/R plotGrouper.buildbin-libdir StartedAt: 2025-11-18 18:16:36 -0500 (Tue, 18 Nov 2025) EndedAt: 2025-11-18 18:16:54 -0500 (Tue, 18 Nov 2025) EllapsedTime: 18.3 seconds RetCode: 0 Status: OK PackageFile: plotGrouper_1.28.0.tgz PackageFileSize: 371.1 KiB