Package: plotGrouper Version: 1.27.0 Command: rm -rf plotGrouper.buildbin-libdir && mkdir plotGrouper.buildbin-libdir && /Users/biocbuild/BBS/utils/build-universal.sh plotGrouper_1.27.0.tar.gz /Library/Frameworks/R.framework/Resources/bin/R plotGrouper.buildbin-libdir StartedAt: 2025-10-26 22:44:15 -0400 (Sun, 26 Oct 2025) EndedAt: 2025-10-26 22:44:18 -0400 (Sun, 26 Oct 2025) EllapsedTime: 3.1 seconds RetCode: 0 Status: OK PackageFile: plotGrouper_1.27.0.tgz PackageFileSize: 371.2 KiB