Package: plotGrouper Version: 1.28.0 Command: /Library/Frameworks/R.framework/Resources/bin/R CMD INSTALL plotGrouper StartedAt: 2025-11-17 17:06:48 -0500 (Mon, 17 Nov 2025) EndedAt: 2025-11-17 17:06:52 -0500 (Mon, 17 Nov 2025) EllapsedTime: 3.8 seconds RetCode: 0 Status: OK