Package: plotGrouper Version: 1.28.0 Command: /Library/Frameworks/R.framework/Resources/bin/R CMD build --keep-empty-dirs --no-resave-data plotGrouper StartedAt: 2025-11-17 23:50:30 -0500 (Mon, 17 Nov 2025) EndedAt: 2025-11-17 23:50:34 -0500 (Mon, 17 Nov 2025) EllapsedTime: 4.0 seconds RetCode: 0 Status: OK PackageFile: plotGrouper_1.28.0.tar.gz PackageFileSize: 704.6 KiB