Package: plotGrouper Version: 1.28.0 Command: rm -rf plotGrouper.buildbin-libdir && mkdir plotGrouper.buildbin-libdir && /Users/biocbuild/BBS/utils/build-universal.sh plotGrouper_1.28.0.tar.gz /Library/Frameworks/R.framework/Resources/bin/R plotGrouper.buildbin-libdir StartedAt: 2025-11-18 16:07:17 -0500 (Tue, 18 Nov 2025) EndedAt: 2025-11-18 16:07:21 -0500 (Tue, 18 Nov 2025) EllapsedTime: 4.1 seconds RetCode: 0 Status: OK PackageFile: plotGrouper_1.28.0.tgz PackageFileSize: 371 KiB