Package: plotGrouper Version: 1.28.0 Maintainer: John D. Gagnon MaintainerEmail: john.gagnon.42 at gmail.com git_url: https://git.bioconductor.org/packages/plotGrouper git_branch: RELEASE_3_22 git_last_commit: 35a0af6 git_last_commit_date: 2025-10-29 10:47:14 -0400 (Wed, 29 Oct 2025)