Package: plgem Version: 1.82.0 Command: /home/biocbuild/bbs-3.22-bioc/R/bin/R CMD INSTALL plgem StartedAt: 2025-11-16 15:40:27 -0500 (Sun, 16 Nov 2025) EndedAt: 2025-11-16 15:40:31 -0500 (Sun, 16 Nov 2025) EllapsedTime: 3.8 seconds RetCode: 0 Status: OK