Package: pipeFrame Version: 1.25.1 Command: /home/biocbuild/bbs-3.22-bioc/R/bin/R CMD INSTALL pipeFrame StartedAt: 2025-10-24 16:09:34 -0400 (Fri, 24 Oct 2025) EndedAt: 2025-10-24 16:10:06 -0400 (Fri, 24 Oct 2025) EllapsedTime: 32.1 seconds RetCode: 0 Status: OK