Package: pipeFrame Version: 1.26.0 Command: /Library/Frameworks/R.framework/Resources/bin/R CMD INSTALL pipeFrame StartedAt: 2025-11-10 15:31:23 -0500 (Mon, 10 Nov 2025) EndedAt: 2025-11-10 15:31:37 -0500 (Mon, 10 Nov 2025) EllapsedTime: 13.7 seconds RetCode: 0 Status: OK